BEGIN:VCALENDAR
VERSION:2.0
CALSCALE:GREGORIAN
PRODID:-//Diputació de Barcelona//DibaCMS//EN
BEGIN:VEVENT
UID:2689
DTSTAMP:20260421T145348
DTSTART:20260423T110000
DTEND:20260423T150000
SUMMARY:Diada de Sant Jordi
LOCATION:Ermita de Sant Jordi de Cercs 08698 Cercs
METHOD:PUBLISH
X-WR-CALNAME:cercs@cercs.cat
X-WR-TIMEZONE:Europe/Madrid
DESCRIPTION:
URI:https://www.cercs.cat/actualitat/agenda/2689-diada-de-sant-jordi.html
CLASS:PUBLIC
END:VEVENT
END:VCALENDAR
