BEGIN:VCALENDAR
VERSION:2.0
CALSCALE:GREGORIAN
PRODID:-//Diputació de Barcelona//DibaCMS//EN
BEGIN:VEVENT
UID:2690
DTSTAMP:20260421T163849
DTSTART:20260517T110000
DTEND:20260517T130000
SUMMARY:Dia Internacional dels Museus
LOCATION:Plaça Sant Romà, s/n 08698 Cercs
METHOD:PUBLISH
X-WR-CALNAME:cercs@cercs.cat
X-WR-TIMEZONE:Europe/Madrid
DESCRIPTION:Visita teatralitzada “Els fets de Fígols de 1932”

URI:https://www.cercs.cat/actualitat/agenda/2690-dia-internacional-dels-museus.html
CLASS:PUBLIC
END:VEVENT
END:VCALENDAR
