BEGIN:VCALENDAR
VERSION:2.0
CALSCALE:GREGORIAN
PRODID:-//Diputació de Barcelona//DibaCMS//EN
BEGIN:VEVENT
UID:2691
DTSTAMP:20260421T150231
DTSTART:20260524T110000
DTEND:20260524T140000
SUMMARY:Setmana de la Natura 2026
LOCATION:Plaça Sant Romà, s/n 08698 Cercs
METHOD:PUBLISH
X-WR-CALNAME:cercs@cercs.cat
X-WR-TIMEZONE:Europe/Madrid
DESCRIPTION:Taller d’introducció a la il·lustració científica.

URI:https://www.cercs.cat/actualitat/agenda/setmana-de-la-natura-2026.html
CLASS:PUBLIC
END:VEVENT
END:VCALENDAR
