BEGIN:VCALENDAR
VERSION:2.0
CALSCALE:GREGORIAN
PRODID:-//Diputació de Barcelona//DibaCMS//EN
BEGIN:VEVENT
UID:2692
DTSTAMP:20260421T144505
DTSTART:20260531T110000
DTEND:20260531T130000
SUMMARY:Setmana de la Natura
LOCATION:Plaça Santa Bàrbara s/n 08698 Cercs
METHOD:PUBLISH
X-WR-CALNAME:cercs@cercs.cat
X-WR-TIMEZONE:Europe/Madrid
DESCRIPTION:Eclipsi i estrelles

URI:https://www.cercs.cat/actualitat/agenda/setmana-de-la-natura.html
CLASS:PUBLIC
END:VEVENT
END:VCALENDAR
