BEGIN:VCALENDAR
VERSION:2.0
CALSCALE:GREGORIAN
PRODID:-//Diputació de Barcelona//DibaCMS//EN
BEGIN:VEVENT
UID:2693
DTSTAMP:20260421T145144
DTSTART:20260721T110000
DTEND:20260721T150000
SUMMARY:Visites guiades a la Presa de la Baells
LOCATION:Embassament de la Baells 08698 Cercs
METHOD:PUBLISH
X-WR-CALNAME:cercs@cercs.cat
X-WR-TIMEZONE:Europe/Madrid
DESCRIPTION:
URI:https://www.cercs.cat/actualitat/agenda/visites-guiades-a-la-presa-de-la-baells.html
CLASS:PUBLIC
END:VEVENT
END:VCALENDAR
